BEGIN:VCALENDAR
VERSION:2.0
PRODID:-//2B CONTINUED - ECPv6.15.20//NONSGML v1.0//EN
CALSCALE:GREGORIAN
METHOD:PUBLISH
X-WR-CALNAME:2B CONTINUED
X-ORIGINAL-URL:https://www.2bcontinued.org
X-WR-CALDESC:Events for 2B CONTINUED
REFRESH-INTERVAL;VALUE=DURATION:PT1H
X-Robots-Tag:noindex
X-PUBLISHED-TTL:PT1H
BEGIN:VTIMEZONE
TZID:America/Chicago
BEGIN:DAYLIGHT
TZOFFSETFROM:-0600
TZOFFSETTO:-0500
TZNAME:CDT
DTSTART:20230312T080000
END:DAYLIGHT
BEGIN:STANDARD
TZOFFSETFROM:-0500
TZOFFSETTO:-0600
TZNAME:CST
DTSTART:20231105T070000
END:STANDARD
BEGIN:DAYLIGHT
TZOFFSETFROM:-0600
TZOFFSETTO:-0500
TZNAME:CDT
DTSTART:20240310T080000
END:DAYLIGHT
BEGIN:STANDARD
TZOFFSETFROM:-0500
TZOFFSETTO:-0600
TZNAME:CST
DTSTART:20241103T070000
END:STANDARD
BEGIN:DAYLIGHT
TZOFFSETFROM:-0600
TZOFFSETTO:-0500
TZNAME:CDT
DTSTART:20250309T080000
END:DAYLIGHT
BEGIN:STANDARD
TZOFFSETFROM:-0500
TZOFFSETTO:-0600
TZNAME:CST
DTSTART:20251102T070000
END:STANDARD
END:VTIMEZONE
BEGIN:VEVENT
DTSTART;TZID=America/Chicago:20241203T130000
DTEND;TZID=America/Chicago:20241203T143000
DTSTAMP:20260422T090644
CREATED:20240518T141302Z
LAST-MODIFIED:20240518T141441Z
UID:10000208-1733230800-1733236200@www.2bcontinued.org
SUMMARY:Peer Support for Mental Health
DESCRIPTION:Weekly peer-led support group open to adults living with mental health concerns or symptoms of mental illness. Group is led by a facilitator with firsthand experience living with mental health concerns. \nTo join\, please contact us: send an email to info@2BCONTINUED.org or call (320) 854-4673
URL:https://www.2bcontinued.org/event/peer-support-for-mental-health/2024-12-03/
LOCATION:2B CONTINUED Office\, 305 7th St E\, Glencoe\, MN\, 55336\, United States
CATEGORIES:Training
ATTACH;FMTTYPE=image/jpeg:https://www.2bcontinued.org/wp-content/uploads/2024/05/SupportGroupHeader2.jpg
END:VEVENT
BEGIN:VEVENT
DTSTART;TZID=America/Chicago:20241210T130000
DTEND;TZID=America/Chicago:20241210T143000
DTSTAMP:20260422T090644
CREATED:20240518T141302Z
LAST-MODIFIED:20240518T141441Z
UID:10000209-1733835600-1733841000@www.2bcontinued.org
SUMMARY:Peer Support for Mental Health
DESCRIPTION:Weekly peer-led support group open to adults living with mental health concerns or symptoms of mental illness. Group is led by a facilitator with firsthand experience living with mental health concerns. \nTo join\, please contact us: send an email to info@2BCONTINUED.org or call (320) 854-4673
URL:https://www.2bcontinued.org/event/peer-support-for-mental-health/2024-12-10/
LOCATION:2B CONTINUED Office\, 305 7th St E\, Glencoe\, MN\, 55336\, United States
CATEGORIES:Training
ATTACH;FMTTYPE=image/jpeg:https://www.2bcontinued.org/wp-content/uploads/2024/05/SupportGroupHeader2.jpg
END:VEVENT
BEGIN:VEVENT
DTSTART;TZID=America/Chicago:20241217T130000
DTEND;TZID=America/Chicago:20241217T143000
DTSTAMP:20260422T090644
CREATED:20240518T141302Z
LAST-MODIFIED:20240518T141441Z
UID:10000210-1734440400-1734445800@www.2bcontinued.org
SUMMARY:Peer Support for Mental Health
DESCRIPTION:Weekly peer-led support group open to adults living with mental health concerns or symptoms of mental illness. Group is led by a facilitator with firsthand experience living with mental health concerns. \nTo join\, please contact us: send an email to info@2BCONTINUED.org or call (320) 854-4673
URL:https://www.2bcontinued.org/event/peer-support-for-mental-health/2024-12-17/
LOCATION:2B CONTINUED Office\, 305 7th St E\, Glencoe\, MN\, 55336\, United States
CATEGORIES:Training
ATTACH;FMTTYPE=image/jpeg:https://www.2bcontinued.org/wp-content/uploads/2024/05/SupportGroupHeader2.jpg
END:VEVENT
BEGIN:VEVENT
DTSTART;TZID=America/Chicago:20241224T130000
DTEND;TZID=America/Chicago:20241224T143000
DTSTAMP:20260422T090644
CREATED:20240518T141302Z
LAST-MODIFIED:20240518T141441Z
UID:10000211-1735045200-1735050600@www.2bcontinued.org
SUMMARY:Peer Support for Mental Health
DESCRIPTION:Weekly peer-led support group open to adults living with mental health concerns or symptoms of mental illness. Group is led by a facilitator with firsthand experience living with mental health concerns. \nTo join\, please contact us: send an email to info@2BCONTINUED.org or call (320) 854-4673
URL:https://www.2bcontinued.org/event/peer-support-for-mental-health/2024-12-24/
LOCATION:2B CONTINUED Office\, 305 7th St E\, Glencoe\, MN\, 55336\, United States
CATEGORIES:Training
ATTACH;FMTTYPE=image/jpeg:https://www.2bcontinued.org/wp-content/uploads/2024/05/SupportGroupHeader2.jpg
END:VEVENT
BEGIN:VEVENT
DTSTART;TZID=America/Chicago:20241231T130000
DTEND;TZID=America/Chicago:20241231T143000
DTSTAMP:20260422T090644
CREATED:20240518T141302Z
LAST-MODIFIED:20240518T141441Z
UID:10000212-1735650000-1735655400@www.2bcontinued.org
SUMMARY:Peer Support for Mental Health
DESCRIPTION:Weekly peer-led support group open to adults living with mental health concerns or symptoms of mental illness. Group is led by a facilitator with firsthand experience living with mental health concerns. \nTo join\, please contact us: send an email to info@2BCONTINUED.org or call (320) 854-4673
URL:https://www.2bcontinued.org/event/peer-support-for-mental-health/2024-12-31/
LOCATION:2B CONTINUED Office\, 305 7th St E\, Glencoe\, MN\, 55336\, United States
CATEGORIES:Training
ATTACH;FMTTYPE=image/jpeg:https://www.2bcontinued.org/wp-content/uploads/2024/05/SupportGroupHeader2.jpg
END:VEVENT
END:VCALENDAR