BEGIN:VCALENDAR
VERSION:2.0
PRODID:-//2B CONTINUED - ECPv6.15.20//NONSGML v1.0//EN
CALSCALE:GREGORIAN
METHOD:PUBLISH
X-WR-CALNAME:2B CONTINUED
X-ORIGINAL-URL:https://www.2bcontinued.org
X-WR-CALDESC:Events for 2B CONTINUED
REFRESH-INTERVAL;VALUE=DURATION:PT1H
X-Robots-Tag:noindex
X-PUBLISHED-TTL:PT1H
BEGIN:VTIMEZONE
TZID:America/Chicago
BEGIN:DAYLIGHT
TZOFFSETFROM:-0600
TZOFFSETTO:-0500
TZNAME:CDT
DTSTART:20240310T080000
END:DAYLIGHT
BEGIN:STANDARD
TZOFFSETFROM:-0500
TZOFFSETTO:-0600
TZNAME:CST
DTSTART:20241103T070000
END:STANDARD
BEGIN:DAYLIGHT
TZOFFSETFROM:-0600
TZOFFSETTO:-0500
TZNAME:CDT
DTSTART:20250309T080000
END:DAYLIGHT
BEGIN:STANDARD
TZOFFSETFROM:-0500
TZOFFSETTO:-0600
TZNAME:CST
DTSTART:20251102T070000
END:STANDARD
BEGIN:DAYLIGHT
TZOFFSETFROM:-0600
TZOFFSETTO:-0500
TZNAME:CDT
DTSTART:20260308T080000
END:DAYLIGHT
BEGIN:STANDARD
TZOFFSETFROM:-0500
TZOFFSETTO:-0600
TZNAME:CST
DTSTART:20261101T070000
END:STANDARD
END:VTIMEZONE
BEGIN:VEVENT
DTSTART;TZID=America/Chicago:20250915T163000
DTEND;TZID=America/Chicago:20250915T180000
DTSTAMP:20260419T083752
CREATED:20250801T154142Z
LAST-MODIFIED:20250801T154142Z
UID:10000757-1757953800-1757959200@www.2bcontinued.org
SUMMARY:2B CONTINUED Volunteer Training
DESCRIPTION:Our volunteer training is a welcoming\, informative session designed to help you feel confident and prepared to support 2B CONTINUED’s mission. Whether you’re new to volunteering or have helped out in the past\, this training provides an overview of who we are\, what we do\, and how volunteers play a vital role in our outreach and events. You’ll learn about the different roles available\, expectations during events\, and how your time and presence can make a meaningful impact in our community. \n  \nSign up here: https://app.betterunite.com/2bcontinued-2bcontinuedvolunteertraining-1
URL:https://www.2bcontinued.org/event/2b-continued-volunteer-training-2/
LOCATION:2B CONTINUED Office\, 305 7th St E\, Glencoe\, MN\, 55336\, United States
CATEGORIES:Training
ATTACH;FMTTYPE=image/jpeg:https://www.2bcontinued.org/wp-content/uploads/2025/06/Volunteer-Training-800-x-460-px.jpg
END:VEVENT
BEGIN:VEVENT
DTSTART;TZID=America/Chicago:20250922T090000
DTEND;TZID=America/Chicago:20250922T143000
DTSTAMP:20260419T083752
CREATED:20250814T165511Z
LAST-MODIFIED:20250829T160356Z
UID:10000763-1758531600-1758551400@www.2bcontinued.org
SUMMARY:YMHFA - Meeker County Fairgrounds
DESCRIPTION:Youth Mental Health First Aid – FREE training for the community.\n\nThe National Council for Mental Wellbeing’s Youth Mental Health First Aid (YMHFA) course teaches how to identify\, understand and respond to signs of mental illness and substance use disorders in youth.\n\nThis free\, 5.5-hour training gives adults who work and interact with youth the skills they need to reach out and provide initial support to children and adolescents (ages 6-18) who may be developing a mental health or substance use problem and help connect them to the appropriate care.\n\n 2 hours of online self-paced pre-work must be completed prior to the class.\nMax class size: 30\, lunch provided\, registration required.\n\n To register: Click here\n 
URL:https://www.2bcontinued.org/event/ymhfa-meeker-county-fairgrounds/
LOCATION:Meeker County Fairgrounds\, Litchfield\, MN
CATEGORIES:Training
ATTACH;FMTTYPE=image/jpeg:https://www.2bcontinued.org/wp-content/uploads/2025/08/yMHFAHeader.jpg
ORGANIZER;CN="2B CONTINUED":MAILTO:info@2BCONTINUED.org
END:VEVENT
BEGIN:VEVENT
DTSTART;TZID=America/Chicago:20250923T130000
DTEND;TZID=America/Chicago:20250923T150000
DTSTAMP:20260419T083752
CREATED:20250818T163757Z
LAST-MODIFIED:20250819T181035Z
UID:10000764-1758632400-1758639600@www.2bcontinued.org
SUMMARY:QPR - J&R Schugel\, New Ulm - Private
DESCRIPTION:QPR stands for Question\, Persuade and Refer — the three simple steps anyone can learn to help save a life from suicide.\n\nJust as people trained in CPR and the Heimlich Maneuver help save thousands of lives each year\, people trained in QPR learn how to recognize the warning signs of a suicide crisis and how to question\, persuade and refer someone to help. It is the most widely taught gatekeeper training in the United States that teaches best practices in suicide prevention.\n\nQPR gatekeeper training is intended for community members 18 years and older and professionals including health care workers\, first responders\, law enforcement\, educators\, clergy\, bankers\, lawyers and more! Certificate of Attendance for professional Continuing Ed.
URL:https://www.2bcontinued.org/event/qpr-jr-schugel-new-ulm-private/
LOCATION:MN
CATEGORIES:Training
ATTACH;FMTTYPE=image/png:https://www.2bcontinued.org/wp-content/uploads/2025/07/qpr.png
END:VEVENT
BEGIN:VEVENT
DTSTART;TZID=America/Chicago:20250925T130000
DTEND;TZID=America/Chicago:20250925T150000
DTSTAMP:20260419T083752
CREATED:20250818T163829Z
LAST-MODIFIED:20250819T181018Z
UID:10000765-1758805200-1758812400@www.2bcontinued.org
SUMMARY:QPR - J&R Schugel\, New Ulm [VIRTUAL] - Private
DESCRIPTION:QPR stands for Question\, Persuade and Refer — the three simple steps anyone can learn to help save a life from suicide.\n\nJust as people trained in CPR and the Heimlich Maneuver help save thousands of lives each year\, people trained in QPR learn how to recognize the warning signs of a suicide crisis and how to question\, persuade and refer someone to help. It is the most widely taught gatekeeper training in the United States that teaches best practices in suicide prevention.\n\nQPR gatekeeper training is intended for community members 18 years and older and professionals including health care workers\, first responders\, law enforcement\, educators\, clergy\, bankers\, lawyers and more! Certificate of Attendance for professional Continuing Ed.
URL:https://www.2bcontinued.org/event/qpr-jr-schugel-new-ulm-virtual-private/
LOCATION:MN
CATEGORIES:Training
ATTACH;FMTTYPE=image/png:https://www.2bcontinued.org/wp-content/uploads/2025/07/qpr.png
END:VEVENT
BEGIN:VEVENT
DTSTART;TZID=America/Chicago:20250926T083000
DTEND;TZID=America/Chicago:20250926T150000
DTSTAMP:20260419T083752
CREATED:20250818T164032Z
LAST-MODIFIED:20250819T181000Z
UID:10000766-1758875400-1758898800@www.2bcontinued.org
SUMMARY:YMHFA - Hutchinson HS - Private
DESCRIPTION:Youth Mental Health First Aid (YMHFA) training for Hutchinson school staff.
URL:https://www.2bcontinued.org/event/ymhfa-hutchinson-hs-private/
LOCATION:Hutchinson High School\, 1200 Roberts Rd SW\, Hutchinson\, MN\, 55350
CATEGORIES:Training
ATTACH;FMTTYPE=image/jpeg:https://www.2bcontinued.org/wp-content/uploads/2025/02/yMHFAHeader.jpg
END:VEVENT
END:VCALENDAR