BEGIN:VCALENDAR
VERSION:2.0
PRODID:-//2B CONTINUED - ECPv6.15.20//NONSGML v1.0//EN
CALSCALE:GREGORIAN
METHOD:PUBLISH
X-ORIGINAL-URL:https://www.2bcontinued.org
X-WR-CALDESC:Events for 2B CONTINUED
REFRESH-INTERVAL;VALUE=DURATION:PT1H
X-Robots-Tag:noindex
X-PUBLISHED-TTL:PT1H
BEGIN:VTIMEZONE
TZID:America/Chicago
BEGIN:DAYLIGHT
TZOFFSETFROM:-0600
TZOFFSETTO:-0500
TZNAME:CDT
DTSTART:20240310T080000
END:DAYLIGHT
BEGIN:STANDARD
TZOFFSETFROM:-0500
TZOFFSETTO:-0600
TZNAME:CST
DTSTART:20241103T070000
END:STANDARD
BEGIN:DAYLIGHT
TZOFFSETFROM:-0600
TZOFFSETTO:-0500
TZNAME:CDT
DTSTART:20250309T080000
END:DAYLIGHT
BEGIN:STANDARD
TZOFFSETFROM:-0500
TZOFFSETTO:-0600
TZNAME:CST
DTSTART:20251102T070000
END:STANDARD
BEGIN:DAYLIGHT
TZOFFSETFROM:-0600
TZOFFSETTO:-0500
TZNAME:CDT
DTSTART:20260308T080000
END:DAYLIGHT
BEGIN:STANDARD
TZOFFSETFROM:-0500
TZOFFSETTO:-0600
TZNAME:CST
DTSTART:20261101T070000
END:STANDARD
END:VTIMEZONE
BEGIN:VEVENT
DTSTART;TZID=America/Chicago:20251009T140000
DTEND;TZID=America/Chicago:20251009T160000
DTSTAMP:20260419T070409
CREATED:20250818T164147Z
LAST-MODIFIED:20250819T180928Z
UID:10000767-1760018400-1760025600@www.2bcontinued.org
SUMMARY:QPR - New Ulm PD - Private
DESCRIPTION:QPR stands for Question\, Persuade and Refer — the three simple steps anyone can learn to help save a life from suicide.\n\nJust as people trained in CPR and the Heimlich Maneuver help save thousands of lives each year\, people trained in QPR learn how to recognize the warning signs of a suicide crisis and how to question\, persuade and refer someone to help. It is the most widely taught gatekeeper training in the United States that teaches best practices in suicide prevention.\n\nQPR gatekeeper training is intended for community members 18 years and older and professionals including health care workers\, first responders\, law enforcement\, educators\, clergy\, bankers\, lawyers and more! Certificate of Attendance for professional Continuing Ed.
URL:https://www.2bcontinued.org/event/qpr-new-ulm-pd-private/
LOCATION:MN
CATEGORIES:Training
ATTACH;FMTTYPE=image/png:https://www.2bcontinued.org/wp-content/uploads/2025/07/qpr.png
END:VEVENT
BEGIN:VEVENT
DTSTART;TZID=America/Chicago:20251010T123000
DTEND;TZID=America/Chicago:20251010T140000
DTSTAMP:20260419T070409
CREATED:20250902T200809Z
LAST-MODIFIED:20250902T200809Z
UID:10000779-1760099400-1760104800@www.2bcontinued.org
SUMMARY:2B CONTINUED Volunteer Training
DESCRIPTION:Our volunteer training is a welcoming\, informative session designed to help you feel confident and prepared to support 2B CONTINUED’s mission. Whether you’re new to volunteering or have helped out in the past\, this training provides an overview of who we are\, what we do\, and how volunteers play a vital role in our outreach and events. You’ll learn about the different roles available\, expectations during events\, and how your time and presence can make a meaningful impact in our community. \n  \nSign up here: https://app.betterunite.com/2bcontinued-2bcontinuedvolunteertraining-1
URL:https://www.2bcontinued.org/event/2b-continued-volunteer-training-3/
LOCATION:2B CONTINUED Office\, 305 7th St E\, Glencoe\, MN\, 55336\, United States
CATEGORIES:Training
ATTACH;FMTTYPE=image/jpeg:https://www.2bcontinued.org/wp-content/uploads/2025/06/Volunteer-Training-800-x-460-px.jpg
END:VEVENT
BEGIN:VEVENT
DTSTART;TZID=America/Chicago:20251013T130000
DTEND;TZID=America/Chicago:20251013T150000
DTSTAMP:20260419T070409
CREATED:20250819T182643Z
LAST-MODIFIED:20251009T182550Z
UID:10000774-1760360400-1760367600@www.2bcontinued.org
SUMMARY:QPR - Ridgewater - Private
DESCRIPTION:QPR stands for Question\, Persuade and Refer — the three simple steps anyone can learn to help save a life from suicide.\n\nJust as people trained in CPR and the Heimlich Maneuver help save thousands of lives each year\, people trained in QPR learn how to recognize the warning signs of a suicide crisis and how to question\, persuade and refer someone to help. It is the most widely taught gatekeeper training in the United States that teaches best practices in suicide prevention.\n\nQPR gatekeeper training is intended for community members 18 years and older and professionals including health care workers\, first responders\, law enforcement\, educators\, clergy\, bankers\, lawyers and more! Certificate of Attendance for professional Continuing Ed.
URL:https://www.2bcontinued.org/event/qpr-ridgewater-private/
LOCATION:Ridgewater
CATEGORIES:Training
ATTACH;FMTTYPE=image/png:https://www.2bcontinued.org/wp-content/uploads/2025/07/qpr.png
END:VEVENT
BEGIN:VEVENT
DTSTART;TZID=America/Chicago:20251014T130000
DTEND;TZID=America/Chicago:20251014T150000
DTSTAMP:20260419T070409
CREATED:20250813T171714Z
LAST-MODIFIED:20250819T180913Z
UID:10000762-1760446800-1760454000@www.2bcontinued.org
SUMMARY:QPR - Annandale PD - Private
DESCRIPTION:QPR stands for Question\, Persuade and Refer — the three simple steps anyone can learn to help save a life from suicide.\n\nJust as people trained in CPR and the Heimlich Maneuver help save thousands of lives each year\, people trained in QPR learn how to recognize the warning signs of a suicide crisis and how to question\, persuade and refer someone to help. It is the most widely taught gatekeeper training in the United States that teaches best practices in suicide prevention.\n\nQPR gatekeeper training is intended for community members 18 years and older and professionals including health care workers\, first responders\, law enforcement\, educators\, clergy\, bankers\, lawyers and more! Certificate of Attendance for professional Continuing Ed.
URL:https://www.2bcontinued.org/event/qpr-annandale-pd-private/
LOCATION:MN
CATEGORIES:Training
ATTACH;FMTTYPE=image/png:https://www.2bcontinued.org/wp-content/uploads/2025/07/qpr.png
END:VEVENT
BEGIN:VEVENT
DTSTART;TZID=America/Chicago:20251020T090000
DTEND;TZID=America/Chicago:20251020T143000
DTSTAMP:20260419T070409
CREATED:20251009T182743Z
LAST-MODIFIED:20251009T182743Z
UID:10000785-1760950800-1760970600@www.2bcontinued.org
SUMMARY:YMHFA - Chaska STARR program -  ECC District - Private
DESCRIPTION:Youth Mental Health First Aid (YMHFA) training.
URL:https://www.2bcontinued.org/event/ymhfa-chaska-starr-program-ecc-district-private/
LOCATION:MN
CATEGORIES:Training
ATTACH;FMTTYPE=image/jpeg:https://www.2bcontinued.org/wp-content/uploads/2025/02/yMHFAHeader.jpg
END:VEVENT
BEGIN:VEVENT
DTSTART;TZID=America/Chicago:20251024T120000
DTEND;TZID=America/Chicago:20251024T140000
DTSTAMP:20260419T070409
CREATED:20250818T164304Z
LAST-MODIFIED:20251010T175652Z
UID:10000768-1761307200-1761314400@www.2bcontinued.org
SUMMARY:QPR - Hutchinson Health
DESCRIPTION:Register here\n\nQPR stands for Question\, Persuade and Refer — the three simple steps anyone can learn to help save a life from suicide.\n\nJust as people trained in CPR and the Heimlich Maneuver help save thousands of lives each year\, people trained in QPR learn how to recognize the warning signs of a suicide crisis and how to question\, persuade and refer someone to help. It is the most widely taught gatekeeper training in the United States that teaches best practices in suicide prevention.\n\nQPR gatekeeper training is intended for community members 18 years and older and professionals including health care workers\, first responders\, law enforcement\, educators\, clergy\, bankers\, lawyers and more! Certificate of Attendance for professional Continuing Ed.
URL:https://www.2bcontinued.org/event/qpr-hutchinson-health-private/
LOCATION:Hutchinson Health – Conf Room A\, 1095 HWY 15\, Hutchinson\, MN\, 55350
CATEGORIES:Training
ATTACH;FMTTYPE=image/png:https://www.2bcontinued.org/wp-content/uploads/2025/07/qpr.png
END:VEVENT
END:VCALENDAR