BEGIN:VCALENDAR
VERSION:2.0
PRODID:-//2B CONTINUED - ECPv6.15.20//NONSGML v1.0//EN
CALSCALE:GREGORIAN
METHOD:PUBLISH
X-WR-CALNAME:2B CONTINUED
X-ORIGINAL-URL:https://www.2bcontinued.org
X-WR-CALDESC:Events for 2B CONTINUED
REFRESH-INTERVAL;VALUE=DURATION:PT1H
X-Robots-Tag:noindex
X-PUBLISHED-TTL:PT1H
BEGIN:VTIMEZONE
TZID:America/Chicago
BEGIN:DAYLIGHT
TZOFFSETFROM:-0600
TZOFFSETTO:-0500
TZNAME:CDT
DTSTART:20250309T080000
END:DAYLIGHT
BEGIN:STANDARD
TZOFFSETFROM:-0500
TZOFFSETTO:-0600
TZNAME:CST
DTSTART:20251102T070000
END:STANDARD
BEGIN:DAYLIGHT
TZOFFSETFROM:-0600
TZOFFSETTO:-0500
TZNAME:CDT
DTSTART:20260308T080000
END:DAYLIGHT
BEGIN:STANDARD
TZOFFSETFROM:-0500
TZOFFSETTO:-0600
TZNAME:CST
DTSTART:20261101T070000
END:STANDARD
BEGIN:DAYLIGHT
TZOFFSETFROM:-0600
TZOFFSETTO:-0500
TZNAME:CDT
DTSTART:20270314T080000
END:DAYLIGHT
BEGIN:STANDARD
TZOFFSETFROM:-0500
TZOFFSETTO:-0600
TZNAME:CST
DTSTART:20271107T070000
END:STANDARD
END:VTIMEZONE
BEGIN:VEVENT
DTSTART;VALUE=DATE:20260617
DTEND;VALUE=DATE:20260618
DTSTAMP:20260425T062344
CREATED:20260304T214609Z
LAST-MODIFIED:20260304T215208Z
UID:10000864-1781654400-1781740799@www.2bcontinued.org
SUMMARY:2026 2B CONTINUED Training Day
DESCRIPTION:2B CONTINUED’s annual Training Day offers a variety of free suicide prevention and mental health trainings for professionals and community members. This a la carte event allows participants to choose one or more sessions that fit their schedule and interests. Trainings focus on increasing awareness\, recognizing the signs of a mental health or suicide crisis\, and learning practical tools that can support conversations and connections in our communities. Whether attending for professional development or personal learning\, participants can select the trainings that best fit their needs. \nAll classes are free and held at Glencoe City Center in Glencoe\, MN. Most trainings take place Wednesday\, June 17\, with the exception of ASIST\, which is a two-day training held June 16 & 17. \n  \nTrainings Offered\nTWO-DAY TRAINING (JUNE 16 & 17) \n\nApplied Suicide Intervention Skills Training (ASIST) – June 16 & June 17\, 8:00 AM–4:30 PM (16-hour training)\n\n  \nMORNING TRAININGS (JUNE 17) \n\nSafeTALK for Ag – 8:00–11:30 AM\nYouth Mental Health First Aid (YMHFA) – 8:00 AM–2:00 PM\nAdult Mental Health First Aid (AMHFA) – 8:00 AM–2:30 PM\n2B CONTINUED Volunteer Training – 9:00–10:00 AM\n\n  \nMIDDAY TRAININGS (JUNE 17) \n\nNaloxone Training – 12:00–1:00 PM\nQuestion\, Persuade\, Refer (QPR) – 12:00–2:00 PM\n\n  \nAFTERNOON TRAININGS (JUNE 17) \n\nCounseling on Access to Lethal Means (CALM) – 2:15–5:15 PM\nNaloxone Training – 2:30–3:30 PM\n2B CONTINUED Volunteer Training – 4:30–5:30 PM\n\n  \nRegistration is required. View the full schedule and register here! 
URL:https://www.2bcontinued.org/event/2026-2b-continued-training-day/
LOCATION:Glencoe City Center\, 1107 11th St E\, Glencoe\, 55336
CATEGORIES:Education,Training
ATTACH;FMTTYPE=image/png:https://www.2bcontinued.org/wp-content/uploads/2026/03/BU_TrainingDay2026.png
END:VEVENT
BEGIN:VEVENT
DTSTART;TZID=America/Chicago:20260713T190000
DTEND;TZID=America/Chicago:20260713T203000
DTSTAMP:20260425T062344
CREATED:20240517T035307Z
LAST-MODIFIED:20260326T171531Z
UID:10001053-1783969200-1783974600@www.2bcontinued.org
SUMMARY:Suicide Loss Bereavement Support Group
DESCRIPTION:Have you lost a loved one to suicide? We’re here for you.\n\nOur Suicide Loss Support Group is a supportive and safe environment for adult suicide loss survivors to share and connect with others who have also experienced the loss of a loved one to suicide. We have come to find\, many who have lost a loved one to suicide focus their energy in ways that can positively affect oneself and surrounding communities. Through their personal loss and grief\, their survival story becomes a guiding light for those with similar struggles. \nThe Suicide Loss Support Group meets the 2nd Monday of the month at our Glencoe office. Please call our office at 320-854-4673 or email info@2BCONTINUED.org to sign up.
URL:https://www.2bcontinued.org/event/suicide-loss-support-group-2-3/2026-07-13/
LOCATION:2B CONTINUED Office\, 305 7th St E\, Glencoe\, MN\, 55336\, United States
CATEGORIES:Outreach
ATTACH;FMTTYPE=image/jpeg:https://www.2bcontinued.org/wp-content/uploads/2023/02/SupportGroupHeader.jpg
ORGANIZER;CN="2B CONTINUED":MAILTO:info@2BCONTINUED.org
END:VEVENT
BEGIN:VEVENT
DTSTART;TZID=America/Chicago:20260810T190000
DTEND;TZID=America/Chicago:20260810T203000
DTSTAMP:20260425T062344
CREATED:20240517T035307Z
LAST-MODIFIED:20260326T171531Z
UID:10001054-1786388400-1786393800@www.2bcontinued.org
SUMMARY:Suicide Loss Bereavement Support Group
DESCRIPTION:Have you lost a loved one to suicide? We’re here for you.\n\nOur Suicide Loss Support Group is a supportive and safe environment for adult suicide loss survivors to share and connect with others who have also experienced the loss of a loved one to suicide. We have come to find\, many who have lost a loved one to suicide focus their energy in ways that can positively affect oneself and surrounding communities. Through their personal loss and grief\, their survival story becomes a guiding light for those with similar struggles. \nThe Suicide Loss Support Group meets the 2nd Monday of the month at our Glencoe office. Please call our office at 320-854-4673 or email info@2BCONTINUED.org to sign up.
URL:https://www.2bcontinued.org/event/suicide-loss-support-group-2-3/2026-08-10/
LOCATION:2B CONTINUED Office\, 305 7th St E\, Glencoe\, MN\, 55336\, United States
CATEGORIES:Outreach
ATTACH;FMTTYPE=image/jpeg:https://www.2bcontinued.org/wp-content/uploads/2023/02/SupportGroupHeader.jpg
ORGANIZER;CN="2B CONTINUED":MAILTO:info@2BCONTINUED.org
END:VEVENT
BEGIN:VEVENT
DTSTART;VALUE=DATE:20260827
DTEND;VALUE=DATE:20260828
DTSTAMP:20260425T062344
CREATED:20260326T172701Z
LAST-MODIFIED:20260326T173217Z
UID:10001059-1787788800-1787875199@www.2bcontinued.org
SUMMARY:Family Movie Night at Stiftungsfest: Elemental
DESCRIPTION:Save the Date!\nJoin us for a fun\, family-friendly movie night at Stiftungsfest featuring Elemental! Grab your blankets\, lawn chairs\, and the whole crew for an evening under the stars. More details—including event information and timing—will be shared as we get closer to the date.
URL:https://www.2bcontinued.org/event/stiftungsfest-family-movie-night-2026/
LOCATION:Wilkommen Park\, 21 Main St E\, Norwood Young America\, MN
CATEGORIES:Outreach
ATTACH;FMTTYPE=image/png:https://www.2bcontinued.org/wp-content/uploads/2026/03/Elemental.png
ORGANIZER;CN="2B CONTINUED":MAILTO:info@2BCONTINUED.org
END:VEVENT
BEGIN:VEVENT
DTSTART;TZID=America/Chicago:20260912T093000
DTEND;TZID=America/Chicago:20260912T183000
DTSTAMP:20260425T062344
CREATED:20260326T174222Z
LAST-MODIFIED:20260423T175954Z
UID:10001060-1789205400-1789237800@www.2bcontinued.org
SUMMARY:2B CONTINUED Annual Bike Run 2026
DESCRIPTION:Join 2B CONTINUED for our annual Bike Run on Saturday\, September 12\, starting and ending in Biscay\, MN. This all-vehicle event brings people together for a day of connection\, unique stops\, and shared purpose while raising awareness of suicide prevention and mental health. \nMore details — including route stops and and schedule — will be announced soon. \nAll street-legal vehicles and passengers are welcome. Learn more and register here!
URL:https://www.2bcontinued.org/event/bike-run-2026/
LOCATION:MN
CATEGORIES:Outreach
ATTACH;FMTTYPE=image/png:https://www.2bcontinued.org/wp-content/uploads/2026/03/BU_BikeRun2025.png
ORGANIZER;CN="2B CONTINUED":MAILTO:info@2BCONTINUED.org
END:VEVENT
BEGIN:VEVENT
DTSTART;TZID=America/Chicago:20260914T190000
DTEND;TZID=America/Chicago:20260914T203000
DTSTAMP:20260425T062344
CREATED:20240517T035307Z
LAST-MODIFIED:20260326T171531Z
UID:10001055-1789412400-1789417800@www.2bcontinued.org
SUMMARY:Suicide Loss Bereavement Support Group
DESCRIPTION:Have you lost a loved one to suicide? We’re here for you.\n\nOur Suicide Loss Support Group is a supportive and safe environment for adult suicide loss survivors to share and connect with others who have also experienced the loss of a loved one to suicide. We have come to find\, many who have lost a loved one to suicide focus their energy in ways that can positively affect oneself and surrounding communities. Through their personal loss and grief\, their survival story becomes a guiding light for those with similar struggles. \nThe Suicide Loss Support Group meets the 2nd Monday of the month at our Glencoe office. Please call our office at 320-854-4673 or email info@2BCONTINUED.org to sign up.
URL:https://www.2bcontinued.org/event/suicide-loss-support-group-2-3/2026-09-14/
LOCATION:2B CONTINUED Office\, 305 7th St E\, Glencoe\, MN\, 55336\, United States
CATEGORIES:Outreach
ATTACH;FMTTYPE=image/jpeg:https://www.2bcontinued.org/wp-content/uploads/2023/02/SupportGroupHeader.jpg
ORGANIZER;CN="2B CONTINUED":MAILTO:info@2BCONTINUED.org
END:VEVENT
BEGIN:VEVENT
DTSTART;TZID=America/Chicago:20260929T080000
DTEND;TZID=America/Chicago:20260929T163000
DTSTAMP:20260425T062344
CREATED:20260326T174952Z
LAST-MODIFIED:20260326T174952Z
UID:10001061-1790668800-1790699400@www.2bcontinued.org
SUMMARY:2B CONTINUED Annual Continuing Education Conference 2026
DESCRIPTION:Save the Date!\nJoin 2B CONTINUED for our Annual Continuing Education Conference on September 29! This engaging\, one-day event brings together professionals\, advocates\, and community members for meaningful connection\, education\, and cross-generational mental health awareness. More details—including speakers\, schedule\, and registration—will be shared soon!
URL:https://www.2bcontinued.org/event/2b-continued-continuing-ed-conference-2026/
LOCATION:MN
CATEGORIES:Education,Events
ATTACH;FMTTYPE=image/png:https://www.2bcontinued.org/wp-content/uploads/2026/03/BU_Continuing-Ed-2026.png
ORGANIZER;CN="2B CONTINUED":MAILTO:info@2BCONTINUED.org
END:VEVENT
BEGIN:VEVENT
DTSTART;TZID=America/Chicago:20261012T190000
DTEND;TZID=America/Chicago:20261012T203000
DTSTAMP:20260425T062344
CREATED:20240517T035307Z
LAST-MODIFIED:20260326T171531Z
UID:10001056-1791831600-1791837000@www.2bcontinued.org
SUMMARY:Suicide Loss Bereavement Support Group
DESCRIPTION:Have you lost a loved one to suicide? We’re here for you.\n\nOur Suicide Loss Support Group is a supportive and safe environment for adult suicide loss survivors to share and connect with others who have also experienced the loss of a loved one to suicide. We have come to find\, many who have lost a loved one to suicide focus their energy in ways that can positively affect oneself and surrounding communities. Through their personal loss and grief\, their survival story becomes a guiding light for those with similar struggles. \nThe Suicide Loss Support Group meets the 2nd Monday of the month at our Glencoe office. Please call our office at 320-854-4673 or email info@2BCONTINUED.org to sign up.
URL:https://www.2bcontinued.org/event/suicide-loss-support-group-2-3/2026-10-12/
LOCATION:2B CONTINUED Office\, 305 7th St E\, Glencoe\, MN\, 55336\, United States
CATEGORIES:Outreach
ATTACH;FMTTYPE=image/jpeg:https://www.2bcontinued.org/wp-content/uploads/2023/02/SupportGroupHeader.jpg
ORGANIZER;CN="2B CONTINUED":MAILTO:info@2BCONTINUED.org
END:VEVENT
BEGIN:VEVENT
DTSTART;TZID=America/Chicago:20261109T190000
DTEND;TZID=America/Chicago:20261109T203000
DTSTAMP:20260425T062344
CREATED:20240517T035307Z
LAST-MODIFIED:20260326T171531Z
UID:10001057-1794250800-1794256200@www.2bcontinued.org
SUMMARY:Suicide Loss Bereavement Support Group
DESCRIPTION:Have you lost a loved one to suicide? We’re here for you.\n\nOur Suicide Loss Support Group is a supportive and safe environment for adult suicide loss survivors to share and connect with others who have also experienced the loss of a loved one to suicide. We have come to find\, many who have lost a loved one to suicide focus their energy in ways that can positively affect oneself and surrounding communities. Through their personal loss and grief\, their survival story becomes a guiding light for those with similar struggles. \nThe Suicide Loss Support Group meets the 2nd Monday of the month at our Glencoe office. Please call our office at 320-854-4673 or email info@2BCONTINUED.org to sign up.
URL:https://www.2bcontinued.org/event/suicide-loss-support-group-2-3/2026-11-09/
LOCATION:2B CONTINUED Office\, 305 7th St E\, Glencoe\, MN\, 55336\, United States
CATEGORIES:Outreach
ATTACH;FMTTYPE=image/jpeg:https://www.2bcontinued.org/wp-content/uploads/2023/02/SupportGroupHeader.jpg
ORGANIZER;CN="2B CONTINUED":MAILTO:info@2BCONTINUED.org
END:VEVENT
BEGIN:VEVENT
DTSTART;TZID=America/Chicago:20261120T190000
DTEND;TZID=America/Chicago:20261121T220000
DTSTAMP:20260425T062344
CREATED:20260326T180648Z
LAST-MODIFIED:20260326T180648Z
UID:10001065-1795201200-1795298400@www.2bcontinued.org
SUMMARY:2B CONTINUED Presents: Legends of the Opry 2026
DESCRIPTION:Save the Date!\n\n\n\n\n\n\n\n\nJoin 2B CONTINUED for Legends of the Opry on November 20 & 21! This special event features three shows filled with dinner and a live musical tribute performed by talented local musicians. Stay tuned—we’ll be announcing this year’s musicians soon! \nShowtimes include November 20 at 7 PM and November 21 at 1 PM and 7 PM. Tickets open July 1\, with more details coming soon!
URL:https://www.2bcontinued.org/event/2b-continued-presents-legends-of-the-opry-2026/
LOCATION:Arlington Event Center\, 204 Shamrock Dr\, Arlington\, MN\, United States
ATTACH;FMTTYPE=image/png:https://www.2bcontinued.org/wp-content/uploads/2026/03/LOTO_2026_BU.png
ORGANIZER;CN="2B CONTINUED":MAILTO:info@2BCONTINUED.org
END:VEVENT
BEGIN:VEVENT
DTSTART;TZID=America/Chicago:20261214T190000
DTEND;TZID=America/Chicago:20261214T203000
DTSTAMP:20260425T062344
CREATED:20240517T035307Z
LAST-MODIFIED:20260326T171531Z
UID:10001058-1797274800-1797280200@www.2bcontinued.org
SUMMARY:Suicide Loss Bereavement Support Group
DESCRIPTION:Have you lost a loved one to suicide? We’re here for you.\n\nOur Suicide Loss Support Group is a supportive and safe environment for adult suicide loss survivors to share and connect with others who have also experienced the loss of a loved one to suicide. We have come to find\, many who have lost a loved one to suicide focus their energy in ways that can positively affect oneself and surrounding communities. Through their personal loss and grief\, their survival story becomes a guiding light for those with similar struggles. \nThe Suicide Loss Support Group meets the 2nd Monday of the month at our Glencoe office. Please call our office at 320-854-4673 or email info@2BCONTINUED.org to sign up.
URL:https://www.2bcontinued.org/event/suicide-loss-support-group-2-3/2026-12-14/
LOCATION:2B CONTINUED Office\, 305 7th St E\, Glencoe\, MN\, 55336\, United States
CATEGORIES:Outreach
ATTACH;FMTTYPE=image/jpeg:https://www.2bcontinued.org/wp-content/uploads/2023/02/SupportGroupHeader.jpg
ORGANIZER;CN="2B CONTINUED":MAILTO:info@2BCONTINUED.org
END:VEVENT
END:VCALENDAR