BEGIN:VCALENDAR
VERSION:2.0
PRODID:-//2B CONTINUED - ECPv6.15.20//NONSGML v1.0//EN
CALSCALE:GREGORIAN
METHOD:PUBLISH
X-WR-CALNAME:2B CONTINUED
X-ORIGINAL-URL:https://www.2bcontinued.org
X-WR-CALDESC:Events for 2B CONTINUED
REFRESH-INTERVAL;VALUE=DURATION:PT1H
X-Robots-Tag:noindex
X-PUBLISHED-TTL:PT1H
BEGIN:VTIMEZONE
TZID:America/Chicago
BEGIN:DAYLIGHT
TZOFFSETFROM:-0600
TZOFFSETTO:-0500
TZNAME:CDT
DTSTART:20230312T080000
END:DAYLIGHT
BEGIN:STANDARD
TZOFFSETFROM:-0500
TZOFFSETTO:-0600
TZNAME:CST
DTSTART:20231105T070000
END:STANDARD
BEGIN:DAYLIGHT
TZOFFSETFROM:-0600
TZOFFSETTO:-0500
TZNAME:CDT
DTSTART:20240310T080000
END:DAYLIGHT
BEGIN:STANDARD
TZOFFSETFROM:-0500
TZOFFSETTO:-0600
TZNAME:CST
DTSTART:20241103T070000
END:STANDARD
BEGIN:DAYLIGHT
TZOFFSETFROM:-0600
TZOFFSETTO:-0500
TZNAME:CDT
DTSTART:20250309T080000
END:DAYLIGHT
BEGIN:STANDARD
TZOFFSETFROM:-0500
TZOFFSETTO:-0600
TZNAME:CST
DTSTART:20251102T070000
END:STANDARD
END:VTIMEZONE
BEGIN:VEVENT
DTSTART;TZID=America/Chicago:20240506T120000
DTEND;TZID=America/Chicago:20240506T190000
DTSTAMP:20260420T064136
CREATED:20240429T212346Z
LAST-MODIFIED:20240429T212347Z
UID:10000142-1714996800-1715022000@www.2bcontinued.org
SUMMARY:Yard Sign Pick-Up Day
DESCRIPTION:May is Mental Health Awareness Month!\n\nHelp bring awareness around Mental Health Awareness Month – place one of our free yard signs!\n\n Fill out the form on our website to request a FREE sign: www.2BCONTINUED.org/yard-signs/ .\n\nThen\, pick up your sign on May 6 between noon and 7PM at our office in Glencoe (and be sure to grab a yummy treat from North Star Donuts – they’ll be setting up their truck in our parking lot from 3-6:30PM\, and a portion of sales will be donated to 2B CONTINUED!)\n\nIf you are unavailable to pick up your sign on May 6\, you will have an opportunity to contact us in the confirmation email after submitting the form on our website\, and we’ll find a way to get a sign to you!
URL:https://www.2bcontinued.org/event/yard-sign-pick-up-day/
LOCATION:2B CONTINUED Office\, 305 7th St E\, Glencoe\, MN\, 55336\, United States
CATEGORIES:Events,Outreach
ATTACH;FMTTYPE=image/jpeg:https://www.2bcontinued.org/wp-content/uploads/2024/04/ys.jpeg
END:VEVENT
BEGIN:VEVENT
DTSTART;TZID=America/Chicago:20240430T150000
DTEND;TZID=America/Chicago:20240430T210000
DTSTAMP:20260420T064136
CREATED:20240309T200809Z
LAST-MODIFIED:20240309T200809Z
UID:10000137-1714489200-1714510800@www.2bcontinued.org
SUMMARY:MHFA - Olivia Hospital & Clinic (Private)
DESCRIPTION:Mental Health First Aid (MHFA) gives adults who work and interact with fellow adults the skills they need to to recognize the signs and symptoms of mental health or substance use challenges and offer support. MHFA can help people who are developing a mental health problem\, experiencing a worsening of a mental health problem\, or are in a mental health crisis. \nThis free 6-hour training addresses common mental health concerns encountered by adults\, with the goals of reducing stigma and offering self-help strategies for staying mentally well. \n2 hours of online self-paced prework must be completed prior to the class.
URL:https://www.2bcontinued.org/event/mhfa-olivia-hospital-clinic-private/
CATEGORIES:Education,Training
ATTACH;FMTTYPE=image/jpeg:https://www.2bcontinued.org/wp-content/uploads/2024/03/Event_Header.jpg
END:VEVENT
END:VCALENDAR