BEGIN:VCALENDAR
VERSION:2.0
PRODID:-//2B CONTINUED - ECPv6.15.20//NONSGML v1.0//EN
CALSCALE:GREGORIAN
METHOD:PUBLISH
X-WR-CALNAME:2B CONTINUED
X-ORIGINAL-URL:https://www.2bcontinued.org
X-WR-CALDESC:Events for 2B CONTINUED
REFRESH-INTERVAL;VALUE=DURATION:PT1H
X-Robots-Tag:noindex
X-PUBLISHED-TTL:PT1H
BEGIN:VTIMEZONE
TZID:America/Chicago
BEGIN:DAYLIGHT
TZOFFSETFROM:-0600
TZOFFSETTO:-0500
TZNAME:CDT
DTSTART:20250309T080000
END:DAYLIGHT
BEGIN:STANDARD
TZOFFSETFROM:-0500
TZOFFSETTO:-0600
TZNAME:CST
DTSTART:20251102T070000
END:STANDARD
BEGIN:DAYLIGHT
TZOFFSETFROM:-0600
TZOFFSETTO:-0500
TZNAME:CDT
DTSTART:20260308T080000
END:DAYLIGHT
BEGIN:STANDARD
TZOFFSETFROM:-0500
TZOFFSETTO:-0600
TZNAME:CST
DTSTART:20261101T070000
END:STANDARD
BEGIN:DAYLIGHT
TZOFFSETFROM:-0600
TZOFFSETTO:-0500
TZNAME:CDT
DTSTART:20270314T080000
END:DAYLIGHT
BEGIN:STANDARD
TZOFFSETFROM:-0500
TZOFFSETTO:-0600
TZNAME:CST
DTSTART:20271107T070000
END:STANDARD
END:VTIMEZONE
BEGIN:VEVENT
DTSTART;VALUE=DATE:20260506
DTEND;VALUE=DATE:20260507
DTSTAMP:20260422T071731
CREATED:20260304T233424Z
LAST-MODIFIED:20260421T175841Z
UID:10000866-1778025600-1778111999@www.2bcontinued.org
SUMMARY:Mental Health Toolbox Workshop
DESCRIPTION:Join 2B CONTINUED for a creative and interactive Mental Health Toolbox Workshop (ages 10+) led by artist and mental health educator Rebecca Schmitz. \nThis hands-on workshop combines art and practical mental health strategies. Participants will receive a red wooden toolbox and materials to create 13 symbolic tools\, each representing a coping strategy or reminder that can help during times of stress or emotional difficulty. As participants design and personalize their tools with words or phrases that resonate with them\, the process becomes a meaningful way to explore coping skills\, boundary setting\, and relationship building. The finished toolbox serves as a visual and tangible resource that participants can return to when they need support. \nChoose from two workshop times: \n\nSession 1: 1:00–3:00 PM\nSession 2: 5:00–7:00 PM\n\nLocation:2B CONTINUED Offices305 7th Street EastGlencoe\, MN 55336 \nThe workshop is free and open to the public\, but registration is required and space is limited. Click here to register! \nThis event is made possible by a grant from the Southwest Minnesota Regional Arts Council.
URL:https://www.2bcontinued.org/event/mental-health-toolbox-2026/
LOCATION:2B CONTINUED Office\, 305 7th St E\, Glencoe\, MN\, 55336\, United States
CATEGORIES:Education,Training
ATTACH;FMTTYPE=image/png:https://www.2bcontinued.org/wp-content/uploads/2026/03/Mental-Health-Toolbox.png
ORGANIZER;CN="2B CONTINUED":MAILTO:info@2BCONTINUED.org
END:VEVENT
END:VCALENDAR