BEGIN:VCALENDAR
VERSION:2.0
PRODID:-//2B CONTINUED - ECPv6.15.20//NONSGML v1.0//EN
CALSCALE:GREGORIAN
METHOD:PUBLISH
X-ORIGINAL-URL:https://www.2bcontinued.org
X-WR-CALDESC:Events for 2B CONTINUED
REFRESH-INTERVAL;VALUE=DURATION:PT1H
X-Robots-Tag:noindex
X-PUBLISHED-TTL:PT1H
BEGIN:VTIMEZONE
TZID:America/Chicago
BEGIN:DAYLIGHT
TZOFFSETFROM:-0600
TZOFFSETTO:-0500
TZNAME:CDT
DTSTART:20240310T080000
END:DAYLIGHT
BEGIN:STANDARD
TZOFFSETFROM:-0500
TZOFFSETTO:-0600
TZNAME:CST
DTSTART:20241103T070000
END:STANDARD
BEGIN:DAYLIGHT
TZOFFSETFROM:-0600
TZOFFSETTO:-0500
TZNAME:CDT
DTSTART:20250309T080000
END:DAYLIGHT
BEGIN:STANDARD
TZOFFSETFROM:-0500
TZOFFSETTO:-0600
TZNAME:CST
DTSTART:20251102T070000
END:STANDARD
BEGIN:DAYLIGHT
TZOFFSETFROM:-0600
TZOFFSETTO:-0500
TZNAME:CDT
DTSTART:20260308T080000
END:DAYLIGHT
BEGIN:STANDARD
TZOFFSETFROM:-0500
TZOFFSETTO:-0600
TZNAME:CST
DTSTART:20261101T070000
END:STANDARD
END:VTIMEZONE
BEGIN:VEVENT
DTSTART;TZID=America/Chicago:20250722T090000
DTEND;TZID=America/Chicago:20250722T150000
DTSTAMP:20260423T035537
CREATED:20250429T012556Z
LAST-MODIFIED:20250429T013530Z
UID:10000731-1753174800-1753196400@www.2bcontinued.org
SUMMARY:YMHFA - 2B CONTINUED Office\, Glencoe (For School Staff and Community Members)
DESCRIPTION:YMHFA – 2B CONTINUED office in Glencoe – FREE training. Target audience: School administrators\, faculty and staff\, parents and community members 18 years and older. \nThe National Council for Mental Wellbeing’s Youth Mental Health First Aid (YMHFA) course teaches how to identify\, understand and respond to signs of mental illness and substance use disorders in youth. \nThis free\, 6-hour training gives adults who work and interact with youth the skills they need to reach out and provide initial support to children and adolescents (ages 6-18) who may be developing a mental health or substance use problem and help connect them to the appropriate care. \n2 hours of online self-paced prework must be completed prior to the class. \nMax class size: 30\, lunch provided. \nTo register\, click here. \n 
URL:https://www.2bcontinued.org/event/ymhfa-2b-continued-office-glencoe-for-school-staff-and-community-members/
LOCATION:2B CONTINUED Office\, 305 7th St E\, Glencoe\, MN\, 55336\, United States
CATEGORIES:Training
ATTACH;FMTTYPE=image/jpeg:https://www.2bcontinued.org/wp-content/uploads/2025/04/yMHFA_Event-1.jpg
ORGANIZER;CN="2B CONTINUED":MAILTO:info@2BCONTINUED.org
END:VEVENT
END:VCALENDAR