BEGIN:VCALENDAR
VERSION:2.0
PRODID:-//2B CONTINUED - ECPv6.15.20//NONSGML v1.0//EN
CALSCALE:GREGORIAN
METHOD:PUBLISH
X-ORIGINAL-URL:https://www.2bcontinued.org
X-WR-CALDESC:Events for 2B CONTINUED
REFRESH-INTERVAL;VALUE=DURATION:PT1H
X-Robots-Tag:noindex
X-PUBLISHED-TTL:PT1H
BEGIN:VTIMEZONE
TZID:America/Chicago
BEGIN:DAYLIGHT
TZOFFSETFROM:-0600
TZOFFSETTO:-0500
TZNAME:CDT
DTSTART:20240310T080000
END:DAYLIGHT
BEGIN:STANDARD
TZOFFSETFROM:-0500
TZOFFSETTO:-0600
TZNAME:CST
DTSTART:20241103T070000
END:STANDARD
BEGIN:DAYLIGHT
TZOFFSETFROM:-0600
TZOFFSETTO:-0500
TZNAME:CDT
DTSTART:20250309T080000
END:DAYLIGHT
BEGIN:STANDARD
TZOFFSETFROM:-0500
TZOFFSETTO:-0600
TZNAME:CST
DTSTART:20251102T070000
END:STANDARD
BEGIN:DAYLIGHT
TZOFFSETFROM:-0600
TZOFFSETTO:-0500
TZNAME:CDT
DTSTART:20260308T080000
END:DAYLIGHT
BEGIN:STANDARD
TZOFFSETFROM:-0500
TZOFFSETTO:-0600
TZNAME:CST
DTSTART:20261101T070000
END:STANDARD
END:VTIMEZONE
BEGIN:VEVENT
DTSTART;VALUE=DATE:20251022
DTEND;VALUE=DATE:20251025
DTSTAMP:20260422T122802
CREATED:20251016T162129Z
LAST-MODIFIED:20251016T162129Z
UID:10000788-1761091200-1761350399@www.2bcontinued.org
SUMMARY:MyTalk 107.1 Project Down & Dirty
DESCRIPTION:Project Down & Dirty is myTalk 107.1’s annual reality-show-on-the-radio!\n\n\n\n\n\n\n\n\n\n\n\n\n\n\n\n\n\nProject Down and Dirty 2025 has been revealed…get ready for Project Down & Dirty: DANCE\nThis year’s Project Down & Dirty is a chance for myTalkers to do what they love…watch their favorite myTalk hosts perform like the clomping\, stomping\, awkward performers they can be! \nBrittany & Kendall (heard weekdays 3–6pm) will be dancing their hearts out to raise funds and awareness for 2B CONTINUED!  \nThis year\, myTalk hosts have three days to learn their dance steps and routines\, choose their costumes\, and work together to put on a show for over a thousand screaming audience members! \nEach team will be assigned dance numbers to perform together\, it could be Hip Hop\, Contemporary\, Jazz or any one of the many styles taught at Hothouse Dance Studio in Minneapolis. \nNow in our 15th year of Project Down and Dirty we’re once again asking our myTalk radio staff to stop being polite and start getting real! Project Down & Dirty: Dance will take place on air October 22nd – 24th
URL:https://www.2bcontinued.org/event/mytalk-107-1-project-down-dirty/
CATEGORIES:Outreach
ATTACH;FMTTYPE=image/jpeg:https://www.2bcontinued.org/wp-content/uploads/2025/10/pdand.jpeg
END:VEVENT
END:VCALENDAR