BEGIN:VCALENDAR
VERSION:2.0
PRODID:-//2B CONTINUED - ECPv6.15.20//NONSGML v1.0//EN
CALSCALE:GREGORIAN
METHOD:PUBLISH
X-ORIGINAL-URL:https://www.2bcontinued.org
X-WR-CALDESC:Events for 2B CONTINUED
REFRESH-INTERVAL;VALUE=DURATION:PT1H
X-Robots-Tag:noindex
X-PUBLISHED-TTL:PT1H
BEGIN:VTIMEZONE
TZID:America/Chicago
BEGIN:DAYLIGHT
TZOFFSETFROM:-0600
TZOFFSETTO:-0500
TZNAME:CDT
DTSTART:20240310T080000
END:DAYLIGHT
BEGIN:STANDARD
TZOFFSETFROM:-0500
TZOFFSETTO:-0600
TZNAME:CST
DTSTART:20241103T070000
END:STANDARD
BEGIN:DAYLIGHT
TZOFFSETFROM:-0600
TZOFFSETTO:-0500
TZNAME:CDT
DTSTART:20250309T080000
END:DAYLIGHT
BEGIN:STANDARD
TZOFFSETFROM:-0500
TZOFFSETTO:-0600
TZNAME:CST
DTSTART:20251102T070000
END:STANDARD
BEGIN:DAYLIGHT
TZOFFSETFROM:-0600
TZOFFSETTO:-0500
TZNAME:CDT
DTSTART:20260308T080000
END:DAYLIGHT
BEGIN:STANDARD
TZOFFSETFROM:-0500
TZOFFSETTO:-0600
TZNAME:CST
DTSTART:20261101T070000
END:STANDARD
END:VTIMEZONE
BEGIN:VEVENT
DTSTART;TZID=America/Chicago:20251122T190000
DTEND;TZID=America/Chicago:20251122T220000
DTSTAMP:20260422T180406
CREATED:20250407T213955Z
LAST-MODIFIED:20250407T213955Z
UID:10000727-1763838000-1763848800@www.2bcontinued.org
SUMMARY:2B CONTINUED PRESENTS: Legends of the Opry
DESCRIPTION:A live musical tribute to benefit suicide prevention and mental health awareness. \nTickets on sale Tuesday\, July 1\, 2025! \nTicket link: https://app.betterunite.com/2bcontinued-25legendsoftheopry \n 
URL:https://www.2bcontinued.org/event/2b-continued-presents-legends-of-the-opry/2025-11-22/2/
LOCATION:Arlington Event Center\, 204 Shamrock Dr\, Arlington\, MN\, United States
CATEGORIES:Events
ATTACH;FMTTYPE=image/webp:https://www.2bcontinued.org/wp-content/uploads/2025/04/LOTO.webp
END:VEVENT
BEGIN:VEVENT
DTSTART;TZID=America/Chicago:20251122T130000
DTEND;TZID=America/Chicago:20251122T160000
DTSTAMP:20260422T180406
CREATED:20250407T213955Z
LAST-MODIFIED:20250407T213955Z
UID:10000726-1763816400-1763827200@www.2bcontinued.org
SUMMARY:2B CONTINUED PRESENTS: Legends of the Opry
DESCRIPTION:A live musical tribute to benefit suicide prevention and mental health awareness. \nTickets on sale Tuesday\, July 1\, 2025! \nTicket link: https://app.betterunite.com/2bcontinued-25legendsoftheopry \n 
URL:https://www.2bcontinued.org/event/2b-continued-presents-legends-of-the-opry/2025-11-22/1/
LOCATION:Arlington Event Center\, 204 Shamrock Dr\, Arlington\, MN\, United States
CATEGORIES:Events
ATTACH;FMTTYPE=image/webp:https://www.2bcontinued.org/wp-content/uploads/2025/04/LOTO.webp
END:VEVENT
BEGIN:VEVENT
DTSTART;TZID=America/Chicago:20251121T190000
DTEND;TZID=America/Chicago:20251121T220000
DTSTAMP:20260422T180406
CREATED:20250407T213955Z
LAST-MODIFIED:20250407T213955Z
UID:10000725-1763751600-1763762400@www.2bcontinued.org
SUMMARY:2B CONTINUED PRESENTS: Legends of the Opry
DESCRIPTION:A live musical tribute to benefit suicide prevention and mental health awareness. \nTickets on sale Tuesday\, July 1\, 2025! \nTicket link: https://app.betterunite.com/2bcontinued-25legendsoftheopry \n 
URL:https://www.2bcontinued.org/event/2b-continued-presents-legends-of-the-opry/2025-11-21/
LOCATION:Arlington Event Center\, 204 Shamrock Dr\, Arlington\, MN\, United States
CATEGORIES:Events
ATTACH;FMTTYPE=image/webp:https://www.2bcontinued.org/wp-content/uploads/2025/04/LOTO.webp
END:VEVENT
BEGIN:VEVENT
DTSTART;VALUE=DATE:20251120
DTEND;VALUE=DATE:20251124
DTSTAMP:20260422T180406
CREATED:20251022T211718Z
LAST-MODIFIED:20251022T212538Z
UID:10000792-1763596800-1763942399@www.2bcontinued.org
SUMMARY:Volunteer at Legends of the Opry!
DESCRIPTION:Volunteers Needed for Legends of the Opry!\n\nMultiple shifts available (Sign up here: https://app.betterunite.com/2bcontinued-25legendsoftheopryvolunteer)\n11/20 – Set Up Day (9am-12:30pm) (1-4:30pm)11/21 – Evening (4-8pm) (7:30-10:30pm)11/22 – Show Day/Evening (10am-2pm) (1:30-4:30pm) (4-8pm) (7:30-10:30pm)11/23 – Take Down Day (10am-12pm)\n\nVariety of jobs available\, something for everyone:\n\nPhysical activities with heavy lifting and bendingActivities with light lifting\, standing and walking\, decorating\, organizing displays
URL:https://www.2bcontinued.org/event/volunteer-at-legends-of-the-opry/
LOCATION:Arlington Event Center\, 204 Shamrock Dr\, Arlington\, MN\, United States
CATEGORIES:Events,Outreach
ATTACH;FMTTYPE=image/jpeg:https://www.2bcontinued.org/wp-content/uploads/2025/10/LOTO_2025_BU_Graphics-1920-x-1005-px-1.jpg
END:VEVENT
END:VCALENDAR