BEGIN:VCALENDAR
VERSION:2.0
PRODID:-//2B CONTINUED - ECPv6.15.20//NONSGML v1.0//EN
CALSCALE:GREGORIAN
METHOD:PUBLISH
X-WR-CALNAME:2B CONTINUED
X-ORIGINAL-URL:https://www.2bcontinued.org
X-WR-CALDESC:Events for 2B CONTINUED
REFRESH-INTERVAL;VALUE=DURATION:PT1H
X-Robots-Tag:noindex
X-PUBLISHED-TTL:PT1H
BEGIN:VTIMEZONE
TZID:America/Chicago
BEGIN:DAYLIGHT
TZOFFSETFROM:-0600
TZOFFSETTO:-0500
TZNAME:CDT
DTSTART:20240310T080000
END:DAYLIGHT
BEGIN:STANDARD
TZOFFSETFROM:-0500
TZOFFSETTO:-0600
TZNAME:CST
DTSTART:20241103T070000
END:STANDARD
BEGIN:DAYLIGHT
TZOFFSETFROM:-0600
TZOFFSETTO:-0500
TZNAME:CDT
DTSTART:20250309T080000
END:DAYLIGHT
BEGIN:STANDARD
TZOFFSETFROM:-0500
TZOFFSETTO:-0600
TZNAME:CST
DTSTART:20251102T070000
END:STANDARD
BEGIN:DAYLIGHT
TZOFFSETFROM:-0600
TZOFFSETTO:-0500
TZNAME:CDT
DTSTART:20260308T080000
END:DAYLIGHT
BEGIN:STANDARD
TZOFFSETFROM:-0500
TZOFFSETTO:-0600
TZNAME:CST
DTSTART:20261101T070000
END:STANDARD
END:VTIMEZONE
BEGIN:VEVENT
DTSTART;TZID=America/Chicago:20250419T130000
DTEND;TZID=America/Chicago:20250419T150000
DTSTAMP:20260422T060648
CREATED:20250304T010913Z
LAST-MODIFIED:20250304T010913Z
UID:10000721-1745067600-1745074800@www.2bcontinued.org
SUMMARY:FREE Movie: Inside Out 2
DESCRIPTION:2B CONTINUED and Meeker County Public Health Present: “Inside Out 2”! \nCelebrating & promoting family well-being during Public Health Awareness Month! \nAll are welcome to this fun\, FREE\, showing! \nComplimentary popcorn and water will be available.
URL:https://www.2bcontinued.org/event/free-movie-inside-out-2/
LOCATION:Bernie Aaker Auditorium\, 114 N Holcombe Ave\, Litchfield\, MN\, 55355
CATEGORIES:Outreach
ATTACH;FMTTYPE=image/png:https://www.2bcontinued.org/wp-content/uploads/2025/03/Screenshot-2025-03-03-at-7.08.07 PM.png
END:VEVENT
END:VCALENDAR