BEGIN:VCALENDAR
VERSION:2.0
PRODID:-//2B CONTINUED - ECPv6.15.20//NONSGML v1.0//EN
CALSCALE:GREGORIAN
METHOD:PUBLISH
X-ORIGINAL-URL:https://www.2bcontinued.org
X-WR-CALDESC:Events for 2B CONTINUED
REFRESH-INTERVAL;VALUE=DURATION:PT1H
X-Robots-Tag:noindex
X-PUBLISHED-TTL:PT1H
BEGIN:VTIMEZONE
TZID:America/Chicago
BEGIN:DAYLIGHT
TZOFFSETFROM:-0600
TZOFFSETTO:-0500
TZNAME:CDT
DTSTART:20240310T080000
END:DAYLIGHT
BEGIN:STANDARD
TZOFFSETFROM:-0500
TZOFFSETTO:-0600
TZNAME:CST
DTSTART:20241103T070000
END:STANDARD
BEGIN:DAYLIGHT
TZOFFSETFROM:-0600
TZOFFSETTO:-0500
TZNAME:CDT
DTSTART:20250309T080000
END:DAYLIGHT
BEGIN:STANDARD
TZOFFSETFROM:-0500
TZOFFSETTO:-0600
TZNAME:CST
DTSTART:20251102T070000
END:STANDARD
BEGIN:DAYLIGHT
TZOFFSETFROM:-0600
TZOFFSETTO:-0500
TZNAME:CDT
DTSTART:20260308T080000
END:DAYLIGHT
BEGIN:STANDARD
TZOFFSETFROM:-0500
TZOFFSETTO:-0600
TZNAME:CST
DTSTART:20261101T070000
END:STANDARD
END:VTIMEZONE
BEGIN:VEVENT
DTSTART;TZID=America/Chicago:20251005T140000
DTEND;TZID=America/Chicago:20251005T160000
DTSTAMP:20260420T132056
CREATED:20250924T202237Z
LAST-MODIFIED:20250924T204855Z
UID:10000781-1759672800-1759680000@www.2bcontinued.org
SUMMARY:The Anxious Generation - BLHS
DESCRIPTION:Parents and community members: Are you interested in understanding how the “Internet Age” has profoundly reshaped childhood and adolescent experiences? Join us for this important and timely discussion!\nDrawing on a book by Jonathan Haidt\, “The Anxious Generation\,” Dr. Amanda Black will discuss how the prevalence of devices and unregulated Internet use affects mental health and overall wellbeing\, especially in children and teens. Attendees will gain a deeper understanding of these challenges\, as well as practical strategies to mitigate negative outcomes.\n\nSunday\, October 5\, 2025Time: 2:00-4:00pmLocation: BLHS Large Gym | 220 3rd St W\, Hector\, MN 55342\nCost: Free\n\nHosted by 5M4 DG Susan Krumrey and Zone 6 Lions Clubs of Bird Island\, Buffalo Lake\, Fairfax\, Franklin\, Hector\, and Olivia.
URL:https://www.2bcontinued.org/event/the-anxious-generation-blhs/
LOCATION:BLHS\, 220 3rd St W\, Hector\, MN\, 55342
CATEGORIES:Outreach
ATTACH;FMTTYPE=image/jpeg:https://www.2bcontinued.org/wp-content/uploads/2025/09/The-Anxious-Generation-2.jpg
ORGANIZER;CN="2B CONTINUED":MAILTO:info@2BCONTINUED.org
END:VEVENT
END:VCALENDAR