BEGIN:VCALENDAR
VERSION:2.0
PRODID:-//2B CONTINUED - ECPv6.15.20//NONSGML v1.0//EN
CALSCALE:GREGORIAN
METHOD:PUBLISH
X-ORIGINAL-URL:https://www.2bcontinued.org
X-WR-CALDESC:Events for 2B CONTINUED
REFRESH-INTERVAL;VALUE=DURATION:PT1H
X-Robots-Tag:noindex
X-PUBLISHED-TTL:PT1H
BEGIN:VTIMEZONE
TZID:America/Chicago
BEGIN:DAYLIGHT
TZOFFSETFROM:-0600
TZOFFSETTO:-0500
TZNAME:CDT
DTSTART:20230312T080000
END:DAYLIGHT
BEGIN:STANDARD
TZOFFSETFROM:-0500
TZOFFSETTO:-0600
TZNAME:CST
DTSTART:20231105T070000
END:STANDARD
BEGIN:DAYLIGHT
TZOFFSETFROM:-0600
TZOFFSETTO:-0500
TZNAME:CDT
DTSTART:20240310T080000
END:DAYLIGHT
BEGIN:STANDARD
TZOFFSETFROM:-0500
TZOFFSETTO:-0600
TZNAME:CST
DTSTART:20241103T070000
END:STANDARD
BEGIN:DAYLIGHT
TZOFFSETFROM:-0600
TZOFFSETTO:-0500
TZNAME:CDT
DTSTART:20250309T080000
END:DAYLIGHT
BEGIN:STANDARD
TZOFFSETFROM:-0500
TZOFFSETTO:-0600
TZNAME:CST
DTSTART:20251102T070000
END:STANDARD
BEGIN:DAYLIGHT
TZOFFSETFROM:-0600
TZOFFSETTO:-0500
TZNAME:CDT
DTSTART:20260308T080000
END:DAYLIGHT
BEGIN:STANDARD
TZOFFSETFROM:-0500
TZOFFSETTO:-0600
TZNAME:CST
DTSTART:20261101T070000
END:STANDARD
BEGIN:DAYLIGHT
TZOFFSETFROM:-0600
TZOFFSETTO:-0500
TZNAME:CDT
DTSTART:20270314T080000
END:DAYLIGHT
BEGIN:STANDARD
TZOFFSETFROM:-0500
TZOFFSETTO:-0600
TZNAME:CST
DTSTART:20271107T070000
END:STANDARD
END:VTIMEZONE
BEGIN:VEVENT
DTSTART;TZID=America/Chicago:20260411T173000
DTEND;TZID=America/Chicago:20260411T213000
DTSTAMP:20260419T164351
CREATED:20260303T174800Z
LAST-MODIFIED:20260303T174800Z
UID:10000862-1775928600-1775943000@www.2bcontinued.org
SUMMARY:2026 Dancing Like the Stars
DESCRIPTION:Join 2B CONTINUED for our signature charity event\, Dancing Like the Stars 2026 where 12 local STAR couples from across our eight-county service area will take the stage after months of preparation\, raising funds to support suicide prevention and mental health education\, training\, and community outreach. \n📍 Glencoe City Center🗓 Saturday\, April 11\, 2026 \nThis event is SOLD OUT\, but you can still be part of the excitement. Click here to get a free livestream ticket and watch from anywhere. \nWatch parties will also be available at select local establishments. This is a great way to experience the event live with others in your community. Participating locations will be listed on our website soon.
URL:https://www.2bcontinued.org/event/2026-dancing-like-the-stars/
LOCATION:Glencoe City Center\, 1107 11th St E\, Glencoe\, 55336
CATEGORIES:Events
ATTACH;FMTTYPE=image/png:https://www.2bcontinued.org/wp-content/uploads/2026/03/DLTS2026_FB_eventcover.png
ORGANIZER;CN="2B CONTINUED":MAILTO:info@2BCONTINUED.org
END:VEVENT
BEGIN:VEVENT
DTSTART;TZID=America/Chicago:20250618T080000
DTEND;TZID=America/Chicago:20250618T140000
DTSTAMP:20260419T164351
CREATED:20250429T014228Z
LAST-MODIFIED:20250429T014445Z
UID:10000734-1750233600-1750255200@www.2bcontinued.org
SUMMARY:YMHFA - TRAINING DAY\, Glencoe (For Community Members)
DESCRIPTION:YMHFA – part of 2B CONTINUED’s Training Day at the Glencoe City Center – FREE training. Target audience: School administrators\, faculty and staff\, parents and community members 18 years and older. \nThe National Council for Mental Wellbeing’s Youth Mental Health First Aid (YMHFA) course teaches how to identify\, understand and respond to signs of mental illness and substance use disorders in youth. \nThis free\, 6-hour training gives adults who work and interact with youth the skills they need to reach out and provide initial support to children and adolescents (ages 6-18) who may be developing a mental health or substance use problem and help connect them to the appropriate care. \n2 hours of online self-paced prework must be completed prior to the class. \nMax class size: 30\, lunch provided. \nTo register\, click here. \n 
URL:https://www.2bcontinued.org/event/ymhfa-training-day-glencoe-for-community-members/
LOCATION:Glencoe City Center\, 1107 11th St E\, Glencoe\, 55336
CATEGORIES:Training
ATTACH;FMTTYPE=image/png:https://www.2bcontinued.org/wp-content/uploads/2025/04/yMHFA_Event.png
ORGANIZER;CN="2B CONTINUED":MAILTO:info@2BCONTINUED.org
END:VEVENT
BEGIN:VEVENT
DTSTART;VALUE=DATE:20250618
DTEND;VALUE=DATE:20250619
DTSTAMP:20260419T164351
CREATED:20250407T213223Z
LAST-MODIFIED:20250407T213223Z
UID:10000724-1750204800-1750291199@www.2bcontinued.org
SUMMARY:2B CONTINUED Training Day
DESCRIPTION:A La Carte Suicide Prevention Training\, FREE & open to professionals & community members! \nRegistration is required. Register here: https://app.betterunite.com/2bcontinued-2025trainingday \n2B CONTINUED VOLUNTEER TRAINING: Be trained as a 2B CONTINUED Ambassador. This training is required in order to volunteer in our county fair booth & at other outreach events. \nAPPLIED SUICIDE INTERVENTION SKILLS TRAINING (ASIST) – 6/17 & 6/18: 2-day training program that teaches participants how to assist those at risk for suicidal thinking\, behavior\, & attempts. \nMENTAL HEALTH TOOLBOX: Discover an interactive visual aid for coping skills\, boundary setting\, and relationship building. Made possible by a grant from the Southwest MN Arts Council. \nOther trainings available: \n\nCounceling on Access to Lethal Means (CALM)\nQuestion\, Persuade\, Refer (QPR)\nSafeTALK for Ag\nYouth Mental Health First Aid (YMHFA)\n\n 
URL:https://www.2bcontinued.org/event/2b-continued-training-day-3/
LOCATION:Glencoe City Center\, 1107 11th St E\, Glencoe\, 55336
CATEGORIES:Education,Training
ATTACH;FMTTYPE=image/webp:https://www.2bcontinued.org/wp-content/uploads/2025/04/TD.webp
END:VEVENT
BEGIN:VEVENT
DTSTART;TZID=America/Chicago:20250424T160000
DTEND;TZID=America/Chicago:20250424T180000
DTSTAMP:20260419T164351
CREATED:20250407T214443Z
LAST-MODIFIED:20250407T214443Z
UID:10000728-1745510400-1745517600@www.2bcontinued.org
SUMMARY:"Together we are Glencoe" Volunteer Fair
DESCRIPTION: Join us at the Glencoe Volunteer Fair! We’re hosting a table at this new event – will we see you there?!Discover local nonprofits and find your perfect volunteer match.Already volunteering? Bring a friend and enjoy light refreshments while catching up on what your favorite organizations are planning for 2025. Perfect for new and seasoned volunteers alike. There will be door prizes too! Date: Thursday\, April 24\, 2025 Time: 4-6 p.m. Location: Glencoe City Center Admission: FREE and open to all
URL:https://www.2bcontinued.org/event/together-we-are-glencoe-volunteer-fair/
LOCATION:Glencoe City Center\, 1107 11th St E\, Glencoe\, 55336
CATEGORIES:Events,Outreach
ATTACH;FMTTYPE=image/jpeg:https://www.2bcontinued.org/wp-content/uploads/2025/04/volunteerfair-scaled.jpg
END:VEVENT
BEGIN:VEVENT
DTSTART;TZID=America/Chicago:20250412T173000
DTEND;TZID=America/Chicago:20250412T213000
DTSTAMP:20260419T164351
CREATED:20241130T205147Z
LAST-MODIFIED:20241130T205147Z
UID:10000457-1744479000-1744493400@www.2bcontinued.org
SUMMARY:2025 Dancing Like the Stars
DESCRIPTION:Saturday\, April 12\, 2025 | 5:30PM\nGlencoe City Center\n\nDancing Like the Stars is…\nA live production show with choreographed dance routines\nFEATURING\n12 STAR COUPLES from Brown\, Carver\, McLeod\, Meeker\, Nicollet\, Renville\, Sibley\, & Wright Counties.\nPLUS\, an opening dance performance by a group of staff members from Olivia Hospital and Clinic!
URL:https://www.2bcontinued.org/event/2025-like-the-stars/
LOCATION:Glencoe City Center\, 1107 11th St E\, Glencoe\, 55336
CATEGORIES:Events
ATTACH;FMTTYPE=image/jpeg:https://www.2bcontinued.org/wp-content/uploads/2024/11/Calendar_Event.jpg
ORGANIZER;CN="2B CONTINUED":MAILTO:info@2BCONTINUED.org
END:VEVENT
BEGIN:VEVENT
DTSTART;TZID=America/Chicago:20240924T080000
DTEND;TZID=America/Chicago:20240924T163000
DTSTAMP:20260419T164351
CREATED:20240715T152405Z
LAST-MODIFIED:20240715T152405Z
UID:10000446-1727164800-1727195400@www.2bcontinued.org
SUMMARY:Awareness 2B CONTINUED Into Action: Continuing Ed Conference for Professionals
DESCRIPTION:Register now for our annual suicide prevention and mental health Continuing Education Conference for professionals! \nRegister here! \n  \n 
URL:https://www.2bcontinued.org/event/awareness-2b-continued-into-action-continuing-ed-conference-for-professionals/
LOCATION:Glencoe City Center\, 1107 11th St E\, Glencoe\, 55336
CATEGORIES:Education,Events
ATTACH;FMTTYPE=image/jpeg:https://www.2bcontinued.org/wp-content/uploads/2024/07/Awareness_Action_BagLogo.jpg
ORGANIZER;CN="2B CONTINUED":MAILTO:info@2BCONTINUED.org
END:VEVENT
END:VCALENDAR