BEGIN:VCALENDAR
VERSION:2.0
PRODID:-//2B CONTINUED - ECPv6.15.20//NONSGML v1.0//EN
CALSCALE:GREGORIAN
METHOD:PUBLISH
X-ORIGINAL-URL:https://www.2bcontinued.org
X-WR-CALDESC:Events for 2B CONTINUED
REFRESH-INTERVAL;VALUE=DURATION:PT1H
X-Robots-Tag:noindex
X-PUBLISHED-TTL:PT1H
BEGIN:VTIMEZONE
TZID:America/Chicago
BEGIN:DAYLIGHT
TZOFFSETFROM:-0600
TZOFFSETTO:-0500
TZNAME:CDT
DTSTART:20250309T080000
END:DAYLIGHT
BEGIN:STANDARD
TZOFFSETFROM:-0500
TZOFFSETTO:-0600
TZNAME:CST
DTSTART:20251102T070000
END:STANDARD
BEGIN:DAYLIGHT
TZOFFSETFROM:-0600
TZOFFSETTO:-0500
TZNAME:CDT
DTSTART:20260308T080000
END:DAYLIGHT
BEGIN:STANDARD
TZOFFSETFROM:-0500
TZOFFSETTO:-0600
TZNAME:CST
DTSTART:20261101T070000
END:STANDARD
BEGIN:DAYLIGHT
TZOFFSETFROM:-0600
TZOFFSETTO:-0500
TZNAME:CDT
DTSTART:20270314T080000
END:DAYLIGHT
BEGIN:STANDARD
TZOFFSETFROM:-0500
TZOFFSETTO:-0600
TZNAME:CST
DTSTART:20271107T070000
END:STANDARD
END:VTIMEZONE
BEGIN:VEVENT
DTSTART;TZID=America/Chicago:20260301T130000
DTEND;TZID=America/Chicago:20260301T150000
DTSTAMP:20260421T102353
CREATED:20260206T160252Z
LAST-MODIFIED:20260206T160252Z
UID:10000840-1772370000-1772377200@www.2bcontinued.org
SUMMARY:Live Music at Schells Brewery - Brandes Campaign Fundraiser
DESCRIPTION:Sunday\, March 1st 1:00-3:00 p.m. \nTanner Stark will perform at Schells Brewery 1860 Schells Road New Ulm \nJoin in the fun for food off their menu and drinks. \n\n\nFree will donations will be accepted. All proceeds will go to 2B CONTINUED in support of DLTS STAR dance couple\, Jeff & Sue Brandes pre-event fundraising campaign.
URL:https://www.2bcontinued.org/event/live-music-at-schells-brewery-brandes-campaign-fundraiser/
LOCATION:Schells Brewery\, 1860 Schells Road\, New Ulm\, MN
ATTACH;FMTTYPE=image/jpeg:https://www.2bcontinued.org/wp-content/uploads/2026/01/Brandes-1.jpg
END:VEVENT
END:VCALENDAR